BEGIN:VCALENDAR
VERSION:2.0
PRODID:-//SportPlan//Event Calendar//EN
CALSCALE:GREGORIAN
BEGIN:VEVENT
UID:646fe6a7-49f7-4d04-b86e-786c6a8d16e1@sportplan.local
DTSTAMP:20260420T211611Z
DTSTART;VALUE=DATE:20260718
DTEND;VALUE=DATE:20260719
SUMMARY:Swissalpine K23 — Flims Laax 2026
DESCRIPTION:Official K23 distance page\; 23.2km trail run Flims to Prau la Selva\; scenic natural highlights\; Jul 18\, 2026\; stable sub-page\; CH trail variety
LOCATION:Flims Laax\, Switzerland
URL:https://sportplan.vercel.app/it/events/swissalpine-k23-flims-laax-2026-2026-07-18
END:VEVENT
END:VCALENDAR
