BEGIN:VCALENDAR
VERSION:2.0
PRODID:-//SportPlan//Event Calendar//EN
CALSCALE:GREGORIAN
BEGIN:VEVENT
UID:351c8fb2-1d24-409a-8277-bfac88cb2b4f@sportplan.local
DTSTAMP:20260420T211558Z
DTSTART;VALUE=DATE:20260913
DTEND;VALUE=DATE:20260914
SUMMARY:Swedbank Vilnius Marathon 2026
DESCRIPTION:Swedbank Vilnius Marathon 2026 is the flagship amateur road running festival in Vilnius\, Lithuania\, scheduled for 13 September 2026. The official organizer site presents the 2026 edition with public registration and multiple entry-level distances\, positioned as Lithuania's largest running event in Vilnius Old Town.
LOCATION:Vilnius
URL:https://sportplan.vercel.app/it/events/swedbank-vilnius-marathon-2026-vilnius-2026-09-13
END:VEVENT
END:VCALENDAR
