BEGIN:VCALENDAR
VERSION:2.0
PRODID:-//SportPlan//Event Calendar//EN
CALSCALE:GREGORIAN
BEGIN:VEVENT
UID:5f1833ee-6613-44bc-89fe-fb17098fed54@sportplan.local
DTSTAMP:20260421T013103Z
DTSTART;VALUE=DATE:20260625
DTEND;VALUE=DATE:20260626
SUMMARY:Suzuki Midnight Sun Run 10K 2026
DESCRIPTION:The Suzuki Midnight Sun Run 10K is an official amateur-participation road race held on the evening of 25 June 2026 in Laugardalur\, Reykjavik. The organizer offers it as one of the main timed public distances\, with a certified AIMS-measured course and official refreshment support.
LOCATION:Laugardalur\, Reykjavik\, Capital Region\, Iceland
URL:https://sportplan.vercel.app/it/events/suzuki-midnight-sun-run-10k-2026-reykjavik-2026-06-25
END:VEVENT
END:VCALENDAR
