BEGIN:VCALENDAR
VERSION:2.0
PRODID:-//SportPlan//Event Calendar//EN
CALSCALE:GREGORIAN
BEGIN:VEVENT
UID:2b19d344-a278-454c-9c7d-ff2f9b5e2975@sportplan.local
DTSTAMP:20260421T003644Z
DTSTART;VALUE=DATE:20260808
DTEND;VALUE=DATE:20260810
SUMMARY:Suomen Tunturisuunnistus 2026
DESCRIPTION:Suomen Tunturisuunnistus 2026 is an official open amateur orienteering event in Näätämö\, Finland on 8 to 9 August 2026. The official invitation lists pair\, individual and fitness classes\, says all classes may be entered without a licence\, and provides registration through the Finnish Orienteering Federation IRMA system.
LOCATION:Näätämö
URL:https://sportplan.vercel.app/it/events/suomen-tunturisuunnistus-2026-2026-08-08
END:VEVENT
END:VCALENDAR
