BEGIN:VCALENDAR
VERSION:2.0
PRODID:-//SportPlan//Event Calendar//EN
CALSCALE:GREGORIAN
BEGIN:VEVENT
UID:291ac67f-1a6f-46c9-abc1-5d567fc9efc3@sportplan.local
DTSTAMP:20260420T211613Z
DTSTART;VALUE=DATE:20260713
DTEND;VALUE=DATE:20260714
SUMMARY:Subida a la Mota Cetín - Corta
DESCRIPTION:Subida a la Mota Cetín - Corta se celebra en La Roza\, Asturias\, Asturias el 13 de julio de 2026\, reuniendo a corredores en un entorno atractivo y con muy buen ambiente. La prueba ofrece con unos 19 km de recorrido\, bien señalizados y con gran ambiente de carrera\, por lo que es una excelente opción tanto para quienes buscan rendir como para quienes quieren disfrutar de la experiencia.
LOCATION:La Roza\, Asturias\, Asturias
URL:https://sportplan.vercel.app/it/events/subida-a-la-mota-cetin-corta-la-roza-2026-07-13-19k
END:VEVENT
END:VCALENDAR
