BEGIN:VCALENDAR
VERSION:2.0
PRODID:-//SportPlan//Event Calendar//EN
CALSCALE:GREGORIAN
BEGIN:VEVENT
UID:73269f49-6165-4c99-a6c1-09b1bbb9890d@sportplan.local
DTSTAMP:20260420T224301Z
DTSTART;VALUE=DATE:20260822
DTEND;VALUE=DATE:20260823
SUMMARY:Straggle Muster 5 km 2026
DESCRIPTION:Straggle Muster 5 km is the official beginner and family-friendly Merino Muster race at Snow Farm NZ\, Cardrona\, New Zealand on 22 August 2026. The official Straggle Muster event page describes it as a new 2026 5 km course for beginners and families\, with team options for families\, friends\, and schools\, and the official Merino Muster entry flow confirms the 2026 event registration.
LOCATION:Snow Farm\, Cardrona\, New Zealand
URL:https://sportplan.vercel.app/it/events/straggle-muster-7km-2026-cardrona-2026-08-22
END:VEVENT
END:VCALENDAR
