BEGIN:VCALENDAR
VERSION:2.0
PRODID:-//SportPlan//Event Calendar//EN
CALSCALE:GREGORIAN
BEGIN:VEVENT
UID:0db3319d-749a-4c38-8610-06044eee865b@sportplan.local
DTSTAMP:20260420T224640Z
DTSTART;VALUE=DATE:20260530
DTEND;VALUE=DATE:20260531
SUMMARY:Stockholm Marathon 2026
DESCRIPTION:Stockholm Marathon 2026 är ett evenemang som arrangeras den 2026-05-30 i Stockholm\, Stockholm. Det är ett bra val för deltagare som söker en välorganiserad idrottsupplevelse\, med en distans på 42.2 km. Evenemanget passar både vana deltagare och personer som vill testa något nytt i kalendern.
LOCATION:Stockholm\, Stockholm
URL:https://sportplan.vercel.app/it/events/stockholm-marathon-2026-stockholm-2026-05-30
END:VEVENT
END:VCALENDAR
