BEGIN:VCALENDAR
VERSION:2.0
PRODID:-//SportPlan//Event Calendar//EN
CALSCALE:GREGORIAN
BEGIN:VEVENT
UID:4292b6d7-370a-41ca-8727-f932eea188de@sportplan.local
DTSTAMP:20260420T194735Z
DTSTART;VALUE=DATE:20270117
DTEND;VALUE=DATE:20270118
SUMMARY:Standard Chartered Hong Kong Marathon
DESCRIPTION:Standard Chartered Hong Kong Marathon 2027 is the official Hong Kong Marathon event site entry for the 17 January 2027 race in Hong Kong. The official event website confirms the Standard Chartered Hong Kong Marathon brand and serves as the participant-facing source for race news\, runner information\, results\, and future registration updates for the open mass-participation marathon weekend.
LOCATION:Hong Kong
URL:https://sportplan.vercel.app/it/events/standard-chartered-hong-kong-marathon-2027-01-17
END:VEVENT
END:VCALENDAR
