BEGIN:VCALENDAR
VERSION:2.0
PRODID:-//SportPlan//Event Calendar//EN
CALSCALE:GREGORIAN
BEGIN:VEVENT
UID:b921b680-4840-4ec3-9987-020e43cec075@sportplan.local
DTSTAMP:20260421T014038Z
DTSTART;VALUE=DATE:20270319
DTEND;VALUE=DATE:20270320
SUMMARY:StafettBirken Ski Relay 2027
DESCRIPTION:StafettBirken Ski Relay is Birken’s team-based mass-participation ski event in Norway on Friday 19 March 2027. The official Birken event page states that StafettBirken gathers companies\, friends\, and families at Birkebeineren Ski Stadium\, with each team made up of four participants across short relay legs\, making it an accessible amateur-open group format.
LOCATION:Birkebeineren Ski Stadium\, Lillehammer\, Innlandet\, Norway
URL:https://sportplan.vercel.app/it/events/stafettbirken-ski-relay-2027-lillehammer-2027-03-19
END:VEVENT
END:VCALENDAR
