BEGIN:VCALENDAR
VERSION:2.0
PRODID:-//SportPlan//Event Calendar//EN
CALSCALE:GREGORIAN
BEGIN:VEVENT
UID:09fedddb-2ecd-4d7b-8903-10c7ff59e799@sportplan.local
DTSTAMP:20260421T001617Z
DTSTART;VALUE=DATE:20260809
DTEND;VALUE=DATE:20260810
SUMMARY:Sri Chinmoy Princes Park Winter Running Festival Marathon
DESCRIPTION:Sri Chinmoy Princes Park Winter Running Festival Marathon is scheduled for August 9\, 2026 in Melbourne. It offers a great opportunity to enjoy a well-organized sporting event with a strong atmosphere and an engaging course. Its accessible format and attractive setting make it a solid option for a wide range of participants.
LOCATION:Melbourne
URL:https://sportplan.vercel.app/it/events/sri-chinmoy-princes-park-winter-running-festival-marathon-melbourne-2026-08-09
END:VEVENT
END:VCALENDAR
