BEGIN:VCALENDAR
VERSION:2.0
PRODID:-//SportPlan//Event Calendar//EN
CALSCALE:GREGORIAN
BEGIN:VEVENT
UID:faa528b8-3eca-4070-ab0c-1db209ea9112@sportplan.local
DTSTAMP:20260420T211138Z
DTSTART;VALUE=DATE:20260830
DTEND;VALUE=DATE:20260831
SUMMARY:Sprint Tri Ilidža 2026
DESCRIPTION:Sprint Tri Ilidža 2026 is an official Bosnia and Herzegovina federation sprint triathlon at Ilidža on 30 August 2026. The TPSBiH official homepage calendar lists it as an international competition and cup race\, organized by TK Triton.
LOCATION:Ilidža
URL:https://sportplan.vercel.app/it/events/sprint-tri-ilidza-2026-08-30
END:VEVENT
END:VCALENDAR
