BEGIN:VCALENDAR
VERSION:2.0
PRODID:-//SportPlan//Event Calendar//EN
CALSCALE:GREGORIAN
BEGIN:VEVENT
UID:93f60f3f-74c7-4713-b69a-cbac424aa593@sportplan.local
DTSTAMP:20260420T211621Z
DTSTART;VALUE=DATE:20260725
DTEND;VALUE=DATE:20260726
SUMMARY:Spartan Race Mt. Fuji Susono 2026
DESCRIPTION:Spartan Race Mt. Fuji Susono 2026 is an official amateur obstacle-course race day at Mt Fuji in Susono\, Shizuoka\, Japan on 25 July 2026. The official Spartan event page lists open Super 10K\, Sprint 5K\, and Kids Race participation\, indicating a public-entry OCR event rather than a pro-only competition.
LOCATION:Mt Fuji\, Susono
URL:https://sportplan.vercel.app/it/events/spartan-race-mt-fuji-susono-2026-susono-2026-07-25
END:VEVENT
END:VCALENDAR
