BEGIN:VCALENDAR
VERSION:2.0
PRODID:-//SportPlan//Event Calendar//EN
CALSCALE:GREGORIAN
BEGIN:VEVENT
UID:17bf8045-f247-4109-8481-ccc365949754@sportplan.local
DTSTAMP:20260420T200117Z
DTSTART;VALUE=DATE:20260501
DTEND;VALUE=DATE:20260502
SUMMARY:Spain Backyard Ultra
DESCRIPTION:Spain Backyard Ultra se celebrará el 1/5/2026 en Castro Caldelas\, Ourense\, Galicia\, ES\, con un recorrido de 6.71 km. Es una gran oportunidad para disfrutar del ambiente del evento\, marcarte un objetivo deportivo y vivir una jornada activa en un entorno especial.
LOCATION:Castro Caldelas\, Ourense\, Galicia
URL:https://sportplan.vercel.app/it/events/spain-backyard-ultra-castro-caldelas-2026-05-01-6-706k
END:VEVENT
END:VCALENDAR
