BEGIN:VCALENDAR
VERSION:2.0
PRODID:-//SportPlan//Event Calendar//EN
CALSCALE:GREGORIAN
BEGIN:VEVENT
UID:ba1701df-b738-453e-81b7-a97a8cefbbf7@sportplan.local
DTSTAMP:20260421T012813Z
DTSTART;VALUE=DATE:20260425
DTEND;VALUE=DATE:20260426
SUMMARY:Solar Power NZ Skedaddle
DESCRIPTION:Solar Power NZ Skedaddle takes place in Island Hills on April 25\, 2026. It offers a great chance to enjoy a memorable day of running\, with race-day energy and a course that can appeal to a wide range of runners. Whether the goal is a strong result or simply soaking up the event atmosphere\, runners can expect an engaging experience from start to finish.
LOCATION:Island Hills
URL:https://sportplan.vercel.app/it/events/solar-power-nz-skedaddle-island-hills-2026-04-25
END:VEVENT
END:VCALENDAR
