BEGIN:VCALENDAR
VERSION:2.0
PRODID:-//SportPlan//Event Calendar//EN
CALSCALE:GREGORIAN
BEGIN:VEVENT
UID:000e3504-bb2a-4452-b9b2-3efb487d083c@sportplan.local
DTSTAMP:20260420T211518Z
DTSTART;VALUE=DATE:20261024
DTEND;VALUE=DATE:20261025
SUMMARY:Snowdonia Marathon Eryri\, 24 Oct 2026
DESCRIPTION:World's Marathons event page for Snowdonia Marathon Eryri.
LOCATION:Snowdonia / Eryri\, Wales\, UK
URL:https://sportplan.vercel.app/it/events/snowdonia-marathon-eryri-24-oct-2026-2026-10-24
END:VEVENT
END:VCALENDAR
