BEGIN:VCALENDAR
VERSION:2.0
PRODID:-//SportPlan//Event Calendar//EN
CALSCALE:GREGORIAN
BEGIN:VEVENT
UID:5265e46b-ef71-484f-880e-8d62aba7f11a@sportplan.local
DTSTAMP:20260420T182415Z
DTSTART;VALUE=DATE:20260606
DTEND;VALUE=DATE:20260607
SUMMARY:Snowbasin By UTMB 100K
DESCRIPTION:
LOCATION:Huntsville\, Utah
URL:https://sportplan.vercel.app/it/events/snowbasin-by-utmb-100k-huntsville-2026-06-06
END:VEVENT
END:VCALENDAR
