BEGIN:VCALENDAR
VERSION:2.0
PRODID:-//SportPlan//Event Calendar//EN
CALSCALE:GREGORIAN
BEGIN:VEVENT
UID:6bc39d0a-d2ba-496d-a340-03d029c6a82e@sportplan.local
DTSTAMP:20260421T004256Z
DTSTART;VALUE=DATE:20260509
DTEND;VALUE=DATE:20260510
SUMMARY:SM-Duathlon 2026
DESCRIPTION:SM-Duathlon 2026 is an official amateur sprint duathlon event in Helsinki\, Finland on 9 May 2026. The official Helsinki Triathlon race invitation confirms open adult participation through the N/M Avoin classes and the HelTri Cup fitness series alongside Finnish championship and age-group races at Malmin lentokenttä\, with 5 km run\, 20 km bike\, and 2.5 km run formats for adults.
LOCATION:Malmin lentokenttä\, Helsinki
URL:https://sportplan.vercel.app/it/events/sm-duathlon-2026-helsinki-2026-05-09
END:VEVENT
END:VCALENDAR
