BEGIN:VCALENDAR
VERSION:2.0
PRODID:-//SportPlan//Event Calendar//EN
CALSCALE:GREGORIAN
BEGIN:VEVENT
UID:5ed8e1d8-4811-4f25-a9f7-1e1da9ce52de@sportplan.local
DTSTAMP:20260420T181700Z
DTSTART;VALUE=DATE:20260425
DTEND;VALUE=DATE:20260426
SUMMARY:Singapore T100 Triathlon 2026
DESCRIPTION:Singapore T100 Triathlon 2026 is the amateur age-group triathlon offering at the Singapore T100 on 25 to 26 April 2026. The official Singapore T100 participate page is the strongest canonical page for athlete entry information and event overview.
LOCATION:Marina Bay\, Singapore
URL:https://sportplan.vercel.app/it/events/singapore-t100-triathlon-2026-2026-04-25
END:VEVENT
END:VCALENDAR
