BEGIN:VCALENDAR
VERSION:2.0
PRODID:-//SportPlan//Event Calendar//EN
CALSCALE:GREGORIAN
BEGIN:VEVENT
UID:9e4a4ade-9fe8-41c2-a944-aa1a32c2d8f1@sportplan.local
DTSTAMP:20260420T181629Z
DTSTART;VALUE=DATE:20260425
DTEND;VALUE=DATE:20260426
SUMMARY:Singapore T100 Triathlon
DESCRIPTION:Singapore T100 Triathlon is the age-group triathlon event at the Singapore T100 weekend on 25 to 26 April 2026. The official root Singapore page currently resolves to the athlete-facing participate page\, so the participate URL is the cleaner canonical destination for amateur users.
LOCATION:Marina Bay\, Singapore
URL:https://sportplan.vercel.app/it/events/singapore-t100-triathlon-2026-04-25
END:VEVENT
END:VCALENDAR
