BEGIN:VCALENDAR
VERSION:2.0
PRODID:-//SportPlan//Event Calendar//EN
CALSCALE:GREGORIAN
BEGIN:VEVENT
UID:d3ec8a25-0ebb-4b27-b518-7d1dd654f1a7@sportplan.local
DTSTAMP:20260420T211222Z
DTSTART;VALUE=DATE:20261004
DTEND;VALUE=DATE:20261005
SUMMARY:Silesia Marathon
DESCRIPTION:Silesia Marathon takes place in Silesia\, Poland on October 4\, 2026\, offering runners a chance to enjoy a focused race atmosphere in PL. The route details are expected to suit runners looking for a well-organized race-day experience. Expect a motivating event environment for both committed athletes and enthusiastic participants.
LOCATION:Silesia\, Poland
URL:https://sportplan.vercel.app/it/events/silesia-marathon-2026-10-04
END:VEVENT
END:VCALENDAR
