BEGIN:VCALENDAR
VERSION:2.0
PRODID:-//SportPlan//Event Calendar//EN
CALSCALE:GREGORIAN
BEGIN:VEVENT
UID:09714e4b-100e-426e-8a87-0f64961e7bc8@sportplan.local
DTSTAMP:20260420T195535Z
DTSTART;VALUE=DATE:20260628
DTEND;VALUE=DATE:20260629
SUMMARY:Sierra de la Demanda Trail
DESCRIPTION:Sierra de la Demanda Trail se celebrará el 2026-06-28 en Ezcaray. Es una buena opción para quienes buscan un reto bien organizado sobre una distancia de 60 km. Ideal tanto para participantes que quieren competir como para quienes prefieren disfrutar del ambiente del evento.
LOCATION:Ezcaray
URL:https://sportplan.vercel.app/it/events/sierra-de-la-demanda-trail-ezcaray-2026-06-28
END:VEVENT
END:VCALENDAR
