BEGIN:VCALENDAR
VERSION:2.0
PRODID:-//SportPlan//Event Calendar//EN
CALSCALE:GREGORIAN
BEGIN:VEVENT
UID:148dac78-fb6a-41b2-bae1-782f839c88ee@sportplan.local
DTSTAMP:20260420T234315Z
DTSTART;VALUE=DATE:20260905
DTEND;VALUE=DATE:20260906
SUMMARY:Shuttle Ticket for BROMAR 2026 (Bromo Marathon)
DESCRIPTION:discovered via galanesia.com/events/ listing\; shuttle transport service for Bromo Marathon 2026 participants\; distinct event/service URL not previously in queue\; Sep 5-7 2026\; Indonesia TIER2 (8 entries before this run)
LOCATION:Mount Bromo\, East Java\, Indonesia
URL:https://sportplan.vercel.app/it/events/shuttle-ticket-for-bromar-2026-bromo-marathon-2026-09-05
END:VEVENT
END:VCALENDAR
