BEGIN:VCALENDAR
VERSION:2.0
PRODID:-//SportPlan//Event Calendar//EN
CALSCALE:GREGORIAN
BEGIN:VEVENT
UID:f5d860f7-334e-4f76-81fa-5538ac3669c1@sportplan.local
DTSTAMP:20260420T194843Z
DTSTART;VALUE=DATE:20260509
DTEND;VALUE=DATE:20260510
SUMMARY:Shire Run Carnival & Aquathlon
DESCRIPTION:discovered via web_fetch from Running Calendar Australia NSW triathlon calendar\; Tier 1 underrepresented-country scout run
LOCATION:Kurnell\, NSW\, Australia
URL:https://sportplan.vercel.app/it/events/shire-run-carnival-aquathlon-2026-05-09
END:VEVENT
END:VCALENDAR
