BEGIN:VCALENDAR
VERSION:2.0
PRODID:-//SportPlan//Event Calendar//EN
CALSCALE:GREGORIAN
BEGIN:VEVENT
UID:1adfeca6-71c5-4ab9-8eeb-2c7fa71de3a6@sportplan.local
DTSTAMP:20260420T211352Z
DTSTART;VALUE=DATE:20260919
DTEND;VALUE=DATE:20260920
SUMMARY:Seven Sisters Skyline Ireland
DESCRIPTION:Discovered via Brave search\; stable World's Marathons event page.
LOCATION:Ireland
URL:https://sportplan.vercel.app/it/events/seven-sisters-skyline-ireland-2026-09-19
END:VEVENT
END:VCALENDAR
