BEGIN:VCALENDAR
VERSION:2.0
PRODID:-//SportPlan//Event Calendar//EN
CALSCALE:GREGORIAN
BEGIN:VEVENT
UID:9c11de9e-b7ef-4fc1-9971-157795238e56@sportplan.local
DTSTAMP:20260420T194739Z
DTSTART;VALUE=DATE:20260621
DTEND;VALUE=DATE:20260622
SUMMARY:Serra da Canastra Trail 2026 (8K/14K/21K)
DESCRIPTION:Discovered via direct fetch of corridasdemontanha.com.br/calendario\; Brazilian mountain trail running circuit 2026 – Serra da Canastra stage.
LOCATION:São José do Barreiro\, Minas Gerais\, Brazil
URL:https://sportplan.vercel.app/it/events/serra-da-canastra-trail-2026-8k-14k-21k-2026-06-21
END:VEVENT
END:VCALENDAR
