BEGIN:VCALENDAR
VERSION:2.0
PRODID:-//SportPlan//Event Calendar//EN
CALSCALE:GREGORIAN
BEGIN:VEVENT
UID:fefcb237-1621-46e3-a765-1d1769243c07@sportplan.local
DTSTAMP:20260420T194759Z
DTSTART;VALUE=DATE:20260524
DTEND;VALUE=DATE:20260525
SUMMARY:Senders de Can Costa (Nova Data) — 13K
DESCRIPTION:Senders de Can Costa (Nova Data) — 13K se celebrará el 24 de mayo de 2026 en Can Costa. Es una cita ideal para quienes buscan disfrutar del ambiente del evento y vivir una experiencia deportiva bien organizada\, con un recorrido aproximado de 13 km. Perfecto tanto para participantes habituales como para quienes quieren sumar un nuevo reto al calendario.
LOCATION:Can Costa
URL:https://sportplan.vercel.app/it/events/senders-de-can-costa-nova-data-13k-can-costa-2026-05-24
END:VEVENT
END:VCALENDAR
