BEGIN:VCALENDAR
VERSION:2.0
PRODID:-//SportPlan//Event Calendar//EN
CALSCALE:GREGORIAN
BEGIN:VEVENT
UID:4bc5c61b-ea0b-4ea1-96e6-c9f7971fb938@sportplan.local
DTSTAMP:20260420T181800Z
DTSTART;VALUE=DATE:20260426
DTEND;VALUE=DATE:20260427
SUMMARY:Semi-marathon de Bourg-lès-Valence
DESCRIPTION:Semi-marathon de Bourg-lès-Valence aura lieu le 26 avril 2026 à Bourg-lès-Valence\, avec un parcours de 21\,1 km. C'est un rendez-vous idéal pour les coureurs à la recherche d'une course bien organisée et d'une belle ambiance le jour de l'épreuve.
LOCATION:Bourg-lès-Valence
URL:https://sportplan.vercel.app/it/events/semi-marathon-de-bourg-les-valence-bourg-les-valence-2026-04-26
END:VEVENT
END:VCALENDAR
