BEGIN:VCALENDAR
VERSION:2.0
PRODID:-//SportPlan//Event Calendar//EN
CALSCALE:GREGORIAN
BEGIN:VEVENT
UID:637dbce6-aeb1-4e16-a9ef-d9a5104541cd@sportplan.local
DTSTAMP:20260420T195006Z
DTSTART;VALUE=DATE:20260523
DTEND;VALUE=DATE:20260524
SUMMARY:Selkirk Slacker 12HR Ultra Trail Run & Relay
DESCRIPTION:
LOCATION:Golden
URL:https://sportplan.vercel.app/it/events/selkirk-slacker-12hr-ultra-trail-run-relay-golden-2026-05-23
END:VEVENT
END:VCALENDAR
