BEGIN:VCALENDAR
VERSION:2.0
PRODID:-//SportPlan//Event Calendar//EN
CALSCALE:GREGORIAN
BEGIN:VEVENT
UID:458379cf-424d-4693-86c4-ad9ed6666414@sportplan.local
DTSTAMP:20260420T211558Z
DTSTART;VALUE=DATE:20260530
DTEND;VALUE=DATE:20260531
SUMMARY:Seen-Lauf Tannheimertal
DESCRIPTION:Seen-Lauf Tannheimertal ist eine Veranstaltung am 2026-05-30 in Tannheim. Sie ist eine gute Wahl für alle\, die ein gut organisiertes Sportevent suchen. Die Veranstaltung passt sowohl zu erfahrenen Teilnehmenden als auch zu Menschen\, die etwas Neues ausprobieren möchten.
LOCATION:Tannheim
URL:https://sportplan.vercel.app/it/events/seen-lauf-tannheimertal-tannheim-2026-05-30
END:VEVENT
END:VCALENDAR
