BEGIN:VCALENDAR
VERSION:2.0
PRODID:-//SportPlan//Event Calendar//EN
CALSCALE:GREGORIAN
BEGIN:VEVENT
UID:3b26f591-385b-4eac-9597-7021b2618735@sportplan.local
DTSTAMP:20260420T224554Z
DTSTART;VALUE=DATE:20260201
DTEND;VALUE=DATE:20260202
SUMMARY:Sapporo International Ski Marathon 25K 2026
DESCRIPTION:The Sapporo International Ski Marathon is a public cross-country ski event in Sapporo. The official event information page lists the 46th edition on 1 February 2026 at Shirahatayama Open Stadium and specifies an open 25 km race for amateur participants aged 16 and over.
LOCATION:Shirahatayama Open Stadium\, Sapporo\, Hokkaido\, Japan
URL:https://sportplan.vercel.app/it/events/sapporo-international-ski-marathon-25k-2026-sapporo-2026-02-01
END:VEVENT
END:VCALENDAR
