BEGIN:VCALENDAR
VERSION:2.0
PRODID:-//SportPlan//Event Calendar//EN
CALSCALE:GREGORIAN
BEGIN:VEVENT
UID:f3c41cb6-d105-43d1-a2ec-ab474ae28a20@sportplan.local
DTSTAMP:20260420T224452Z
DTSTART;VALUE=DATE:20260201
DTEND;VALUE=DATE:20260202
SUMMARY:Sapporo International Ski Marathon 2026
DESCRIPTION:Sapporo International Ski Marathon 2026 is an official amateur cross-country ski participation event in Sapporo\, Japan on 1 February 2026. The official organizer page confirms the 46th edition race date and the 50 km\, 25 km\, and 10 km marathon program\, with reception at Shirahatayama Open Stadium. Worldloppet also lists the event as Sapporo Ski Marathon with open mass-participation ski race history.
LOCATION:Shirahatayama Open Stadium\, Sapporo\, Hokkaido\, Japan
URL:https://sportplan.vercel.app/it/events/sapporo-international-ski-marathon-2026-sapporo-2026-02-01
END:VEVENT
END:VCALENDAR
