BEGIN:VCALENDAR
VERSION:2.0
PRODID:-//SportPlan//Event Calendar//EN
CALSCALE:GREGORIAN
BEGIN:VEVENT
UID:79b5cd0f-ffc5-478e-af0a-701d77b70054@sportplan.local
DTSTAMP:20260420T201945Z
DTSTART;VALUE=DATE:20261018
DTEND;VALUE=DATE:20261019
SUMMARY:Santa Cruz Extreme - Trail 18K
DESCRIPTION:Santa Cruz Extreme - Trail 18K se celebrará el 18 de octubre de 2026 en Santa Cruz de Tenerife\, Tenerife\, Canarias\, reuniendo a participantes que buscan una jornada deportiva bien organizada. La prueba propone un recorrido de 18 km que combina reto y disfrute. Es una excelente oportunidad para disfrutar del ambiente local\, marcarse un objetivo de temporada y vivir el evento con buena energía.
LOCATION:Santa Cruz de Tenerife\, Tenerife\, Canarias
URL:https://sportplan.vercel.app/it/events/santa-cruz-extreme-trail-18k-santa-cruz-de-tenerife-2026-10-18-18k
END:VEVENT
END:VCALENDAR
