BEGIN:VCALENDAR
VERSION:2.0
PRODID:-//SportPlan//Event Calendar//EN
CALSCALE:GREGORIAN
BEGIN:VEVENT
UID:a245cc86-312d-485c-bdfc-d72ddeef7be5@sportplan.local
DTSTAMP:20260420T214858Z
DTSTART;VALUE=DATE:20261101
DTEND;VALUE=DATE:20261102
SUMMARY:Sant Carles Trail 12K
DESCRIPTION:Sant Carles Trail 12K se celebrará el 2026-11-01 en Ibiza\, Eivissa i Form.\, Baleares. El recorrido cubre aproximadamente 12 km\, ofreciendo una cita atractiva tanto para participantes que buscan un nuevo reto como para quienes quieren disfrutar del ambiente del evento. Ideal para sumar una nueva experiencia al calendario y disfrutar de una jornada activa en un entorno especial.
LOCATION:Ibiza\, Eivissa i Form.\, Baleares
URL:https://sportplan.vercel.app/it/events/sant-carles-trail-12k-ibiza-2026-11-01-12k
END:VEVENT
END:VCALENDAR
