BEGIN:VCALENDAR
VERSION:2.0
PRODID:-//SportPlan//Event Calendar//EN
CALSCALE:GREGORIAN
BEGIN:VEVENT
UID:2836f029-3880-406a-83a1-fdca8a567b5d@sportplan.local
DTSTAMP:20260420T200546Z
DTSTART;VALUE=DATE:20260922
DTEND;VALUE=DATE:20260923
SUMMARY:San Silvestri Serraillana 2024
DESCRIPTION:San Silvestri Serraillana 2024 se celebrará el 22 septiembre 2026 en Serradilla\, Cáceres\, Extremadura\, ofreciendo una cita ideal para quienes buscan un reto bien organizado y un gran ambiente deportivo. Con un recorrido de 5 km\, es una buena oportunidad para marcar objetivos\, disfrutar del entorno y vivir la energía del evento de principio a fin.
LOCATION:Serradilla\, Cáceres\, Extremadura
URL:https://sportplan.vercel.app/it/events/san-silvestri-serraillana-2024-serradilla-2026-09-22-5k
END:VEVENT
END:VCALENDAR
