BEGIN:VCALENDAR
VERSION:2.0
PRODID:-//SportPlan//Event Calendar//EN
CALSCALE:GREGORIAN
BEGIN:VEVENT
UID:48b07bb3-daff-4beb-8db6-57c96fa42762@sportplan.local
DTSTAMP:20260420T194653Z
DTSTART;VALUE=DATE:20260510
DTEND;VALUE=DATE:20260511
SUMMARY:Salomon Cesme Half Marathon
DESCRIPTION:The official Salomon Çeşme Yarı Maratonu site promotes the 9 to 10 May 2026 race weekend in Çeşme and positions it as a participant-facing road-running event on the Aegean coast. The organizer describes the event as a public half-marathon festival with race-week information hosted on the official site.
LOCATION:Cesme\, Turkey
URL:https://sportplan.vercel.app/it/events/salomon-cesme-half-marathon-2026-05-10
END:VEVENT
END:VCALENDAR
