BEGIN:VCALENDAR
VERSION:2.0
PRODID:-//SportPlan//Event Calendar//EN
CALSCALE:GREGORIAN
BEGIN:VEVENT
UID:6f7452e3-4a28-4525-9e69-13cdac416335@sportplan.local
DTSTAMP:20260420T194913Z
DTSTART;VALUE=DATE:20261017
DTEND;VALUE=DATE:20261018
SUMMARY:Salomon Cappadocia Ultra Trail®
DESCRIPTION:
LOCATION:Turkey
URL:https://sportplan.vercel.app/it/events/salomon-cappadocia-ultra-trail-2026-10-17
END:VEVENT
END:VCALENDAR
