BEGIN:VCALENDAR
VERSION:2.0
PRODID:-//SportPlan//Event Calendar//EN
CALSCALE:GREGORIAN
BEGIN:VEVENT
UID:f46e8037-a819-4acc-801f-8162e36f12f5@sportplan.local
DTSTAMP:20260420T194709Z
DTSTART;VALUE=DATE:20260523
DTEND;VALUE=DATE:20260524
SUMMARY:Run For Light 2026
DESCRIPTION:Run For Light 2026 is an official amateur participation running event in Singapore on 23 May 2026 at Pasir Ris Park. The official event site lists open public race categories including a 1 km Signature Blindfold Walk\, 5 km Fun Run & Walk\, and 10 km Competitive Run\, with event hours from 17:00 to 21:00 and registration hosted on the official linked Heyrace page.
LOCATION:Pasir Ris Park
URL:https://sportplan.vercel.app/it/events/run-for-light-2026-singapore-2026-05-23
END:VEVENT
END:VCALENDAR
