BEGIN:VCALENDAR
VERSION:2.0
PRODID:-//SportPlan//Event Calendar//EN
CALSCALE:GREGORIAN
BEGIN:VEVENT
UID:e9815bb8-3a9c-43d5-95f2-685a6772b286@sportplan.local
DTSTAMP:20260420T195230Z
DTSTART;VALUE=DATE:20260517
DTEND;VALUE=DATE:20260518
SUMMARY:Run Festival Tossa de Mar 2026 — 17K Trail 17K
DESCRIPTION:Run Festival Tossa de Mar 2026 — 17K Trail 17K se celebrará el 17 mayo 2026 en Tossa de Mar\, reuniendo a corredores en un entorno ideal para disfrutar de la jornada. Con una distancia de 17 km\, la prueba combina esfuerzo\, ritmo y una experiencia pensada tanto para competir como para vivir el ambiente del evento. El recorrido apunta a una experiencia de montaña con desnivel\, técnica y paisajes que añaden carácter a la prueba.
LOCATION:Tossa de Mar
URL:https://sportplan.vercel.app/it/events/run-festival-tossa-de-mar-2026-17k-trail-17k-tossa-de-mar-2026-05-17
END:VEVENT
END:VCALENDAR
