BEGIN:VCALENDAR
VERSION:2.0
PRODID:-//SportPlan//Event Calendar//EN
CALSCALE:GREGORIAN
BEGIN:VEVENT
UID:aee189b4-4002-440c-a74d-3223c9edaa40@sportplan.local
DTSTAMP:20260420T202723Z
DTSTART;VALUE=DATE:20260927
DTEND;VALUE=DATE:20260928
SUMMARY:Rotary Tour de Dundas Gran Fondo 2026
DESCRIPTION:Rotary Tour de Dundas Gran Fondo 2026 is an amateur road-cycling charity ride in Dundas\, Ontario\, Canada on 27 September 2026. The official organizer site says riders start in scenic Dundas and choose from five paved-road and mixed-surface routes from 20 km to 161 km\, with the longest Olympian route exceeding 1\,000 m of elevation gain and the event welcoming e-bikes and family participation.
LOCATION:Dundas
URL:https://sportplan.vercel.app/it/events/rotary-tour-de-dundas-gran-fondo-2026-2026-09-27
END:VEVENT
END:VCALENDAR
