BEGIN:VCALENDAR
VERSION:2.0
PRODID:-//SportPlan//Event Calendar//EN
CALSCALE:GREGORIAN
BEGIN:VEVENT
UID:7287607e-7edc-41cb-945f-eac8e3dbb0d5@sportplan.local
DTSTAMP:20260420T195008Z
DTSTART;VALUE=DATE:20260522
DTEND;VALUE=DATE:20260525
SUMMARY:Rocky Mountain Soap Women's Run & Walk
DESCRIPTION:
LOCATION:Canmore
URL:https://sportplan.vercel.app/it/events/rocky-mountain-soap-women-s-run-walk-canmore-2026-05-22
END:VEVENT
END:VCALENDAR
