BEGIN:VCALENDAR
VERSION:2.0
PRODID:-//SportPlan//Event Calendar//EN
CALSCALE:GREGORIAN
BEGIN:VEVENT
UID:e7680e25-6e65-4937-824a-337ba9ebaf1a@sportplan.local
DTSTAMP:20260420T194618Z
DTSTART;VALUE=DATE:20260501
DTEND;VALUE=DATE:20260504
SUMMARY:Roc d' Ardenne
DESCRIPTION:
LOCATION:Houffalize
URL:https://sportplan.vercel.app/it/events/roc-d-ardenne-houffalize-2026-05-01
END:VEVENT
END:VCALENDAR
