BEGIN:VCALENDAR
VERSION:2.0
PRODID:-//SportPlan//Event Calendar//EN
CALSCALE:GREGORIAN
BEGIN:VEVENT
UID:7f1a9482-fb33-4512-8ecc-687fe0d41458@sportplan.local
DTSTAMP:20260420T211218Z
DTSTART;VALUE=DATE:20260508
DTEND;VALUE=DATE:20260509
SUMMARY:Road Race Modi'in
DESCRIPTION:discovered via official World Athletics calendar\; Israel selected after queue count review as a low-coverage country. URL is an event-specific official calendar filter because direct standalone event slugs are not exposed in the page data.
LOCATION:Modi'in
URL:https://sportplan.vercel.app/it/events/road-race-modi-in-2026-05-08
END:VEVENT
END:VCALENDAR
