BEGIN:VCALENDAR
VERSION:2.0
PRODID:-//SportPlan//Event Calendar//EN
CALSCALE:GREGORIAN
BEGIN:VEVENT
UID:581b5305-50bc-4c81-a467-1ee1f738524a@sportplan.local
DTSTAMP:20260420T211220Z
DTSTART;VALUE=DATE:20261002
DTEND;VALUE=DATE:20261003
SUMMARY:Road Race Hadera
DESCRIPTION:discovered via official World Athletics calendar\; Israel selected after queue count review as a low-coverage country. URL is an event-specific official calendar filter because direct standalone event slugs are not exposed in the page data.
LOCATION:Hadera
URL:https://sportplan.vercel.app/it/events/road-race-hadera-2026-10-02
END:VEVENT
END:VCALENDAR
