BEGIN:VCALENDAR
VERSION:2.0
PRODID:-//SportPlan//Event Calendar//EN
CALSCALE:GREGORIAN
BEGIN:VEVENT
UID:7e36d2f4-b693-4858-b25d-d85cd660379a@sportplan.local
DTSTAMP:20260420T211441Z
DTSTART;VALUE=DATE:20260517
DTEND;VALUE=DATE:20260518
SUMMARY:Rimi Riga Marathon 42.2 km 2026
DESCRIPTION:Rimi Riga Marathon is the flagship amateur-open road race of the Rimi Riga Marathon weekend in Latvia. The official organizer registration page confirms the 2026 event weekend on 16 to 17 May 2026\, with the marathon start on 17 May from 11 November Embankment in Riga and registration open through the official participant portal.
LOCATION:11 November Embankment\, Riga\, Latvia
URL:https://sportplan.vercel.app/it/events/rimi-riga-marathon-42k-2026-riga-2026-05-17
END:VEVENT
END:VCALENDAR
