BEGIN:VCALENDAR
VERSION:2.0
PRODID:-//SportPlan//Event Calendar//EN
CALSCALE:GREGORIAN
BEGIN:VEVENT
UID:36a5047b-cbb8-475f-81f0-86d4e98ef4cf@sportplan.local
DTSTAMP:20260420T182416Z
DTSTART;VALUE=DATE:20260822
DTEND;VALUE=DATE:20260824
SUMMARY:Raleigh DEKA FIT & Ultra 2026
DESCRIPTION:Raleigh DEKA FIT & Ultra 2026 is an official amateur hybrid-fitness event in Raleigh\, North Carolina from 22 to 23 August 2026. The official Spartan DEKA page shows a public event at Raleigh Convention Center with DEKA FIT and Ultra programming plus standard competitive heat options on the official registration page.
LOCATION:Raleigh\, North Carolina
URL:https://sportplan.vercel.app/it/events/raleigh-deka-fit-ultra-2026-raleigh-2026-08-22
END:VEVENT
END:VCALENDAR
