BEGIN:VCALENDAR
VERSION:2.0
PRODID:-//SportPlan//Event Calendar//EN
CALSCALE:GREGORIAN
BEGIN:VEVENT
UID:13696282-7035-45e7-8663-c5a535bf62a8@sportplan.local
DTSTAMP:20260420T194732Z
DTSTART;VALUE=DATE:20260510
DTEND;VALUE=DATE:20260511
SUMMARY:Qui Quebec
DESCRIPTION:Qui Quebec takes place in Trois-Rivières on May 10\, 2026\, bringing runners together for a memorable race-day atmosphere. Whether you're aiming for a personal best or simply want to enjoy the course\, this event offers a motivating experience in Trois-Rivières.
LOCATION:Trois-Rivières
URL:https://sportplan.vercel.app/it/events/qui-quebec-trois-rivieres-2026-05-10
END:VEVENT
END:VCALENDAR
