BEGIN:VCALENDAR
VERSION:2.0
PRODID:-//SportPlan//Event Calendar//EN
CALSCALE:GREGORIAN
BEGIN:VEVENT
UID:7b0c136d-1e18-48a7-8e60-c29112c6b9e1@sportplan.local
DTSTAMP:20260421T001725Z
DTSTART;VALUE=DATE:20260501
DTEND;VALUE=DATE:20260504
SUMMARY:Puszcza Festiwal 2026 — Nocna Pomroka – Nocna Trasa Piesza Z Mapą – Ok. 12 km 12k
DESCRIPTION:
LOCATION:Niepołomice
URL:https://sportplan.vercel.app/it/events/puszcza-festiwal-2026-nocna-pomroka-nocna-trasa-piesza-z-mapa-ok-12-km-12k-niepo-omice-2026-05-01
END:VEVENT
END:VCALENDAR
