BEGIN:VCALENDAR
VERSION:2.0
PRODID:-//SportPlan//Event Calendar//EN
CALSCALE:GREGORIAN
BEGIN:VEVENT
UID:4e7c500e-ed79-4739-9fa1-8688eab12add@sportplan.local
DTSTAMP:20260420T211636Z
DTSTART;VALUE=DATE:20260515
DTEND;VALUE=DATE:20260518
SUMMARY:PUMA Salzburg Marathon Lauffestspiele der Mozartstadt
DESCRIPTION:PUMA Salzburg Marathon Lauffestspiele der Mozartstadt findet am 15. Mai 2026 in Salzburgo statt. Die Veranstaltung ist eine starke Wahl für alle\, die ein gut organisiertes Sporterlebnis in attraktiver Umgebung suchen. Ideal\, um die Strecke\, die Atmosphäre und einen aktiven Tag zu genießen.
LOCATION:Salzburgo
URL:https://sportplan.vercel.app/it/events/puma-salzburg-marathon-lauffestspiele-der-mozartstadt-salzburgo-2026-05-15
END:VEVENT
END:VCALENDAR
