BEGIN:VCALENDAR
VERSION:2.0
PRODID:-//SportPlan//Event Calendar//EN
CALSCALE:GREGORIAN
BEGIN:VEVENT
UID:d2a3ebe0-d41c-4b65-b2e1-180b5519c553@sportplan.local
DTSTAMP:20260420T201154Z
DTSTART;VALUE=DATE:20260622
DTEND;VALUE=DATE:20260623
SUMMARY:Promo Trail Alto Najerilla\, y Urbión - Rioja Trail Series
DESCRIPTION:
LOCATION:Brieva de Cameros\, La Rioja\, La Rioja
URL:https://sportplan.vercel.app/it/events/promo-trail-alto-najerilla-y-urbion-rioja-trail-series-brieva-de-cameros-2026-06
END:VEVENT
END:VCALENDAR
