BEGIN:VCALENDAR
VERSION:2.0
PRODID:-//SportPlan//Event Calendar//EN
CALSCALE:GREGORIAN
BEGIN:VEVENT
UID:db27a913-0348-43d2-bec6-62ade2ddcef2@sportplan.local
DTSTAMP:20260420T195256Z
DTSTART;VALUE=DATE:20260503
DTEND;VALUE=DATE:20260504
SUMMARY:Prague Marathon 2026
DESCRIPTION:The official RunCzech page lists Vodafone Prague Marathon 2026 on 3 May 2026 in Prague as a flagship World Athletics Elite Label mass-participation marathon within the Prague Marathon weekend.
LOCATION:Prague\, Prague
URL:https://sportplan.vercel.app/it/events/prague-marathon-2026-prague-2026-05-03
END:VEVENT
END:VCALENDAR
